BEGIN:VCALENDAR
VERSION:2.0
METHOD:PUBLISH
X-WR-CALNAME;VALUE=TEXT:
PRODID:-//Drupal iCal API//EN
BEGIN:VEVENT
SUMMARY:Region 3 EMS Advisory Committee Meeting
LOCATION:\, Mt. Jackson\, VA\,
DTSTART;TZID=UTC:20260430T140000
DTEND;TZID=UTC:20260430T160000
DESCRIPTION:Region 3 (Shenandoah Valley EMS Council) EMS Advisory Committee meeting. This is a hybrid meeting.
END:VEVENT
END:VCALENDAR
